<?xml version="1.0" encoding="UTF-8" standalone="no"?>
<metadata xml:lang="en">
<Esri>
<CreaDate>20201105</CreaDate>
<CreaTime>16091000</CreaTime>
<ArcGISFormat>1.0</ArcGISFormat>
<SyncOnce>FALSE</SyncOnce>
<DataProperties>
<lineage>
<Process Date="20201105" Name="" Time="160910" ToolSource="c:\program files (x86)\arcgis\desktop10.7\ArcToolbox\Toolboxes\Data Management Tools.tbx\CreateMosaicDataset" export="">CreateMosaicDataset \\files\gisshare\GIS\Data\Images\Rockville_Ortho2020_3in.gdb Rockville_OrthoMosaicDataset2020_3in_2 "PROJCS['NAD_1983_StatePlane_Maryland_FIPS_1900_Feet',GEOGCS['GCS_North_American_1983',DATUM['D_North_American_1983',SPHEROID['GRS_1980',6378137.0,298.257222101]],PRIMEM['Greenwich',0.0],UNIT['Degree',0.0174532925199433]],PROJECTION['Lambert_Conformal_Conic'],PARAMETER['False_Easting',1312333.333333333],PARAMETER['False_Northing',0.0],PARAMETER['Central_Meridian',-77.0],PARAMETER['Standard_Parallel_1',38.3],PARAMETER['Standard_Parallel_2',39.45],PARAMETER['Latitude_Of_Origin',37.66666666666666],UNIT['Foot_US',0.3048006096012192]];-120561100 -95444400 3048.00609601219;-100000 10000;-100000 10000;3.28083333333333E-03;0.001;0.001;IsHighPrecision" 3 # NATURAL_COLOR_RGB "Red 630 690;Green 530 570;Blue 440 510"</Process>
<Process Date="20240923" Time="185136" ToolSource="c:\program files\arcgis\pro\Resources\ArcToolbox\toolboxes\Data Management Tools.tbx\CalculateStatistics">CalculateStatistics W:\Data\Images\Rockville_Ortho2020_3in.gdb\Rockville_OrthoMosaicDataset2020_3in 1 1 # OVERWRITE "Feature Set"</Process>
</lineage>
<itemProps>
<itemName Sync="TRUE">Rockville_OrthoMosaicDataset2020_3in</itemName>
<itemLocation>
<linkage Sync="TRUE">file://\\files\gisshare\gis\Data\Images\Rockville_Ortho2020_3in.gdb</linkage>
<protocol Sync="TRUE">Local Area Network</protocol>
</itemLocation>
<nativeExtBox>
<westBL Sync="TRUE">1237000.000098</westBL>
<eastBL Sync="TRUE">1282000.000098</eastBL>
<southBL Sync="TRUE">503000.000021</southBL>
<northBL Sync="TRUE">549000.000021</northBL>
<exTypeCode Sync="TRUE">1</exTypeCode>
</nativeExtBox>
<imsContentType>002</imsContentType>
</itemProps>
<coordRef>
<type Sync="TRUE">Projected</type>
<geogcsn Sync="TRUE">GCS_North_American_1983</geogcsn>
<csUnits Sync="TRUE">Linear Unit: Foot_US (0.304801)</csUnits>
<projcsn Sync="TRUE">NAD_1983_StatePlane_Maryland_FIPS_1900_Feet</projcsn>
<peXml Sync="TRUE">&lt;ProjectedCoordinateSystem xsi:type='typens:ProjectedCoordinateSystem' xmlns:xsi='http://www.w3.org/2001/XMLSchema-instance' xmlns:xs='http://www.w3.org/2001/XMLSchema' xmlns:typens='http://www.esri.com/schemas/ArcGIS/10.7'&gt;&lt;WKT&gt;PROJCS[&amp;quot;NAD_1983_StatePlane_Maryland_FIPS_1900_Feet&amp;quot;,GEOGCS[&amp;quot;GCS_North_American_1983&amp;quot;,DATUM[&amp;quot;D_North_American_1983&amp;quot;,SPHEROID[&amp;quot;GRS_1980&amp;quot;,6378137.0,298.257222101]],PRIMEM[&amp;quot;Greenwich&amp;quot;,0.0],UNIT[&amp;quot;Degree&amp;quot;,0.0174532925199433]],PROJECTION[&amp;quot;Lambert_Conformal_Conic&amp;quot;],PARAMETER[&amp;quot;False_Easting&amp;quot;,1312333.333333333],PARAMETER[&amp;quot;False_Northing&amp;quot;,0.0],PARAMETER[&amp;quot;Central_Meridian&amp;quot;,-77.0],PARAMETER[&amp;quot;Standard_Parallel_1&amp;quot;,38.3],PARAMETER[&amp;quot;Standard_Parallel_2&amp;quot;,39.45],PARAMETER[&amp;quot;Latitude_Of_Origin&amp;quot;,37.66666666666666],UNIT[&amp;quot;Foot_US&amp;quot;,0.3048006096012192],AUTHORITY[&amp;quot;EPSG&amp;quot;,2248]]&lt;/WKT&gt;&lt;XOrigin&gt;-120561100&lt;/XOrigin&gt;&lt;YOrigin&gt;-95444400&lt;/YOrigin&gt;&lt;XYScale&gt;36953082.294548117&lt;/XYScale&gt;&lt;ZOrigin&gt;-100000&lt;/ZOrigin&gt;&lt;ZScale&gt;10000&lt;/ZScale&gt;&lt;MOrigin&gt;-100000&lt;/MOrigin&gt;&lt;MScale&gt;10000&lt;/MScale&gt;&lt;XYTolerance&gt;0.0032808333333333331&lt;/XYTolerance&gt;&lt;ZTolerance&gt;0.001&lt;/ZTolerance&gt;&lt;MTolerance&gt;0.001&lt;/MTolerance&gt;&lt;HighPrecision&gt;true&lt;/HighPrecision&gt;&lt;WKID&gt;102685&lt;/WKID&gt;&lt;LatestWKID&gt;2248&lt;/LatestWKID&gt;&lt;/ProjectedCoordinateSystem&gt;</peXml>
</coordRef>
<RasterProperties>
<General>
<PixelDepth Sync="TRUE">8</PixelDepth>
<HasColormap Sync="TRUE">FALSE</HasColormap>
<CompressionType Sync="TRUE">None</CompressionType>
<NumBands Sync="TRUE">3</NumBands>
<Format Sync="TRUE">AMD</Format>
<HasPyramids Sync="TRUE">TRUE</HasPyramids>
<SourceType Sync="TRUE">continuous</SourceType>
<PixelType Sync="TRUE">unsigned integer</PixelType>
<NoDataValue Sync="TRUE"/>
</General>
<Properties>
<MaxImageHeight Sync="TRUE">4100</MaxImageHeight>
<MaxImageWidth Sync="TRUE">15000</MaxImageWidth>
<MaxRecordCount Sync="TRUE">1000</MaxRecordCount>
<MaxDownloadImageCount Sync="TRUE">20</MaxDownloadImageCount>
<MaxDownloadSizeLimit Sync="TRUE">2048</MaxDownloadSizeLimit>
<MaxMosaicImageCount Sync="TRUE">20</MaxMosaicImageCount>
<DefaultCompressionQuality Sync="TRUE">75</DefaultCompressionQuality>
<DefaultCompressionTolerance Sync="TRUE">0.01</DefaultCompressionTolerance>
<BlendWidth Sync="TRUE">10</BlendWidth>
<ViewpointSpacingX Sync="TRUE">600</ViewpointSpacingX>
<ViewpointSpacingY Sync="TRUE">300</ViewpointSpacingY>
<AllowedItemMetadata Sync="TRUE">Basic</AllowedItemMetadata>
<DefaultResamplingMethod Sync="TRUE">1</DefaultResamplingMethod>
<AllowedMosaicMethods Sync="TRUE">NorthWest,Center,LockRaster,ByAttribute,Nadir,Viewpoint,Seamline,None</AllowedMosaicMethods>
<AllowedCompressions Sync="TRUE">None,JPEG,LZ77,LERC</AllowedCompressions>
<AllowedMensurationCapabilities Sync="TRUE">Basic</AllowedMensurationCapabilities>
<AvailableMensurationCapabilities Sync="TRUE">None,Basic,Base-Top Height,Top-Top Shadow Height,Base-Top Shadow Height,3D</AvailableMensurationCapabilities>
<ClipToBoundary Sync="TRUE">-1</ClipToBoundary>
<FootprintMayContainNoData Sync="TRUE">-1</FootprintMayContainNoData>
<CellSizeTolerance Sync="TRUE">0.8</CellSizeTolerance>
<MinimumPixelContribution Sync="TRUE">1</MinimumPixelContribution>
<AvailableMosaicMethods Sync="TRUE">NorthWest,Center,LockRaster,ByAttribute,Nadir,Viewpoint,Seamline,None</AvailableMosaicMethods>
<AvailableCompressionMethods Sync="TRUE">None,JPEG,LZ77,LERC</AvailableCompressionMethods>
<AvailableItemMetadataLevels Sync="TRUE">None,Basic,Full</AvailableItemMetadataLevels>
<BandDefinitionKeyword Sync="TRUE">NaturalColor</BandDefinitionKeyword>
<_docversion_ Sync="TRUE">10</_docversion_>
<AllowedFields Sync="TRUE">Name,MinPS,MaxPS,LowPS,HighPS,Tag,GroupName,ProductName,CenterX,CenterY,ZOrder,Shape_Length,Shape_Area</AllowedFields>
<MaxCellSize Sync="TRUE">12150</MaxCellSize>
<LowCellSize Sync="TRUE">0.25</LowCellSize>
<HighCellSize Sync="TRUE">243</HighCellSize>
<ApplyColorCorrection Sync="TRUE">0</ApplyColorCorrection>
</Properties>
<Functions Sync="TRUE">
<Function Description="Performs on-the-fly mosaic on a raster catalog." Name="Mosaic Function"/>
</Functions>
</RasterProperties>
</DataProperties>
<SyncDate>20210315</SyncDate>
<SyncTime>13571900</SyncTime>
<ModDate>20210315</ModDate>
<ModTime>13571900</ModTime>
<scaleRange>
<minScale>150000000</minScale>
<maxScale>5000</maxScale>
</scaleRange>
<ArcGISProfile>ItemDescription</ArcGISProfile>
</Esri>
<mdLang>
<languageCode value="eng"/>
<countryCode Sync="TRUE" value="USA"/>
</mdLang>
<mdChar>
<CharSetCd value="004"/>
</mdChar>
<mdHrLv>
<ScopeCd value="005"/>
</mdHrLv>
<mdContact>
<rpIndName>Shawn Benham</rpIndName>
<rpOrgName>Sanborn Map Co., Inc.</rpOrgName>
<rpPosName>Vice President of Programs</rpPosName>
<rpCntInfo>
<cntPhone>
<voiceNum>719-502-1296</voiceNum>
</cntPhone>
<cntAddress addressType="postal">
<delPoint>1935 Jamboree Drive, Suite 100</delPoint>
<city>Colorado Springs</city>
<adminArea>Colorado</adminArea>
<postCode>80920-5358</postCode>
<eMailAdd>sbenham@sanborn.com</eMailAdd>
</cntAddress>
</rpCntInfo>
<role>
<RoleCd value="007"/>
</role>
</mdContact>
<mdDateSt Sync="TRUE">20210315</mdDateSt>
<mdStanName>ArcGIS Metadata</mdStanName>
<mdStanVer>1.0</mdStanVer>
<distInfo>
<distributor>
<distorCont>
<rpIndName>Lisa Lowe</rpIndName>
<rpOrgName>Geographical Information Office Dept. of Information Technology</rpOrgName>
<rpCntInfo>
<cntPhone>
<voiceNum>410-697-9424</voiceNum>
</cntPhone>
<cntAddress addressType="postal">
<delPoint>Room 4.213</delPoint>
<city>Crownsville</city>
<adminArea>Maryland</adminArea>
<postCode>21032</postCode>
<eMailAdd>lisa.lowe@maryland.gov</eMailAdd>
</cntAddress>
</rpCntInfo>
<role>
<RoleCd value="005"/>
</role>
</distorCont>
</distributor>
</distInfo>
<dataIdInfo>
<idCitation>
<resTitle Sync="TRUE">Rockville Ortho 2020 3-inch</resTitle>
<date>
<pubDate>2020-10-01</pubDate>
</date>
<citRespParty>
<rpOrgName>Maryland Geographical Information Office Dept. of Information Technology</rpOrgName>
<role>
<RoleCd value="006"/>
</role>
</citRespParty>
<presForm>
<PresFormCd value="005"/>
</presForm>
<presForm>
<fgdcGeoform>remote-sensing image</fgdcGeoform>
</presForm>
</idCitation>
<idAbs>&lt;DIV STYLE="text-align:Left;"&gt;&lt;DIV&gt;&lt;P&gt;&lt;SPAN&gt;This metadata record describes the 0.25-foot pixel resolution digital orthoimagery produced of Rockville-Gaithersburg Maryland by the Sanborn Map Company. The orthoimagery provided is 4-band (R, G, B, NIR), 8-bit per pixel and delivered in section tiles in uncompressed TIFF/TFW, compressed SID/SDW (20:1), compressed JP2000 (20:1), and compressed ECW (25:1) formats in feet and meters. The data was collected on March 21, 2020 at an altitude 4733 feet (AGL) using an UltraCam Eagle camera and complies with the NSSDA standards, large scale maps at 1" = 100'. This orthoimagery is published in Maryland State Plane, NAD 1983 (2011), U.S. Survey Feet.&lt;/SPAN&gt;&lt;/P&gt;&lt;/DIV&gt;&lt;/DIV&gt;</idAbs>
<idPurp>Orthorectified orthoimagery for Rockville-Gaithersburg may serve as a basemap for GIS applications.</idPurp>
<idStatus>
<ProgCd value="001"/>
</idStatus>
<idPoC>
<rpIndName>Lisa Lowe</rpIndName>
<rpOrgName>Geographical Information Office Dept. of Information Technology</rpOrgName>
<rpCntInfo>
<cntPhone>
<voiceNum>410-697-9424</voiceNum>
</cntPhone>
<cntAddress addressType="postal">
<delPoint>Room 4.213</delPoint>
<city>Crownsville</city>
<adminArea>Maryland</adminArea>
<postCode>21032</postCode>
<eMailAdd>lisa.lowe@maryland.gov</eMailAdd>
</cntAddress>
</rpCntInfo>
<role>
<RoleCd value="007"/>
</role>
</idPoC>
<resMaint>
<maintFreq>
<MaintFreqCd value="011"/>
</maintFreq>
</resMaint>
<placeKeys>
<keyword>Rockville Gaithersburg</keyword>
<keyword>Maryland</keyword>
</placeKeys>
<themeKeys>
<keyword>Ortho</keyword>
<keyword>Orthophotography</keyword>
<keyword>Photography</keyword>
<keyword>Imagery</keyword>
</themeKeys>
<searchKeys>
<keyword>Rockville Gaithersburg</keyword>
<keyword>Ortho</keyword>
<keyword>Orthophotography</keyword>
<keyword>Maryland</keyword>
<keyword>Photography</keyword>
<keyword>Imagery</keyword>
<keyword>Rockville</keyword>
<keyword>orthophoto</keyword>
<keyword>aerial</keyword>
</searchKeys>
<resConst>
<LegConsts>
<useLimit>None</useLimit>
<othConsts>This data may be used by the requested party for stated purposes and should not be re-distributed.</othConsts>
</LegConsts>
</resConst>
<resConst>
<Consts>
<useLimit>&lt;div style='text-align:Left;'&gt;&lt;div style='font-family:&amp;quot;Avenir Next W01&amp;quot;, &amp;quot;Avenir Next W00&amp;quot;, &amp;quot;Avenir Next&amp;quot;, Avenir, &amp;quot;Helvetica Neue&amp;quot;, sans-serif; font-size:16px;'&gt;The City of Rockville provides this dataset or map to be available and accessible for public use and sharing, “as is.”&lt;/div&gt;&lt;div style='font-family:&amp;quot;Avenir Next W01&amp;quot;, &amp;quot;Avenir Next W00&amp;quot;, &amp;quot;Avenir Next&amp;quot;, Avenir, &amp;quot;Helvetica Neue&amp;quot;, sans-serif; font-size:16px;'&gt;&lt;br /&gt;&lt;/div&gt;&lt;div style='font-family:&amp;quot;Avenir Next W01&amp;quot;, &amp;quot;Avenir Next W00&amp;quot;, &amp;quot;Avenir Next&amp;quot;, Avenir, &amp;quot;Helvetica Neue&amp;quot;, sans-serif; font-size:16px;'&gt;This dataset or map may be derived from a variety of sources of varying quality and accuracy. Accuracy, completeness, correctness, and currency are not guaranteed. Maps are provided for informational purposes only and have not been prepared for and are not suitable for legal, engineering, or surveying purposes or any other site-specific purpose. Maps provided do not represent an on-the-ground survey and represent only the approximate relative location of property boundaries and other features.&lt;/div&gt;&lt;div style='font-family:&amp;quot;Avenir Next W01&amp;quot;, &amp;quot;Avenir Next W00&amp;quot;, &amp;quot;Avenir Next&amp;quot;, Avenir, &amp;quot;Helvetica Neue&amp;quot;, sans-serif; font-size:16px;'&gt;&lt;br /&gt;&lt;/div&gt;&lt;div style='font-family:&amp;quot;Avenir Next W01&amp;quot;, &amp;quot;Avenir Next W00&amp;quot;, &amp;quot;Avenir Next&amp;quot;, Avenir, &amp;quot;Helvetica Neue&amp;quot;, sans-serif; font-size:16px;'&gt;DATASETS AND MAPS ARE PROVIDED &amp;quot;AS IS&amp;quot; WITHOUT WARRANTY OF ANY KIND, EITHER EXPRESSED OR IMPLIED, INCLUDING, BUT NOT LIMITED TO, THE IMPLIED WARRANTIES OF MERCHANTABILITY AND FITNESS FOR A PARTICULAR PURPOSE. &lt;/div&gt;&lt;div style='font-family:&amp;quot;Avenir Next W01&amp;quot;, &amp;quot;Avenir Next W00&amp;quot;, &amp;quot;Avenir Next&amp;quot;, Avenir, &amp;quot;Helvetica Neue&amp;quot;, sans-serif; font-size:16px;'&gt;&lt;br /&gt;&lt;/div&gt;&lt;div style='font-family:&amp;quot;Avenir Next W01&amp;quot;, &amp;quot;Avenir Next W00&amp;quot;, &amp;quot;Avenir Next&amp;quot;, Avenir, &amp;quot;Helvetica Neue&amp;quot;, sans-serif; font-size:16px;'&gt;The City of Rockville assumes no responsibility or liability for any errors, omissions, or inaccuracies in the datasets or maps provided, regardless of the cause of such, or for any decision made, action taken, or action not taken by the user in reliance upon any maps or data provided herein. The user assumes the risk that the information may not be accurate.&lt;/div&gt;&lt;/div&gt;</useLimit>
</Consts>
</resConst>
<spatRpType>
<SpatRepTypCd value="001"/>
</spatRpType>
<dataLang>
<languageCode value="eng"/>
<countryCode Sync="TRUE" value="USA"/>
</dataLang>
<envirDesc Sync="TRUE"> Version 6.2 (Build 9200) ; Esri ArcGIS 10.7.1.11595</envirDesc>
<dataExt>
<geoEle>
<GeoBndBox>
<westBL>-77.2593</westBL>
<eastBL>-77.1078</eastBL>
<southBL>39.0531</southBL>
<northBL>39.1691</northBL>
</GeoBndBox>
</geoEle>
</dataExt>
<dataExt>
<exDesc>ground condition</exDesc>
<tempEle>
<TempExtent>
<exTemp>
<TM_Instant>
<tmPosition>2020-03-21</tmPosition>
</TM_Instant>
</exTemp>
</TempExtent>
</tempEle>
</dataExt>
<dataExt>
<geoEle>
<GeoBndBox esriExtentType="search">
<exTypeCode Sync="TRUE">1</exTypeCode>
<westBL Sync="TRUE">-77.265727</westBL>
<eastBL Sync="TRUE">-77.106807</eastBL>
<northBL Sync="TRUE">39.174070</northBL>
<southBL Sync="TRUE">39.047519</southBL>
</GeoBndBox>
</geoEle>
</dataExt>
<idCredit>Maryland Geographical Information Office Dept. of Information Technology</idCredit>
<tpCat>
<TopicCatCd value="010"/>
</tpCat>
</dataIdInfo>
<mdConst>
<Consts>
<useLimit>This data is meant for use by requested parties. This data cannot be used without express consent.</useLimit>
</Consts>
</mdConst>
<dqInfo>
<dqScope>
<scpLvl>
<ScopeCd value="005"/>
</scpLvl>
</dqScope>
<report type="DQConcConsis">
<measDesc>Since the ortho images are raster products, the logical consistency is based on how well the images fit between image tiles and between individual photo frames used to produce the ortho mosaics.</measDesc>
</report>
<report type="DQCompOm">
<measDesc>The ortho image tiles are checked for missing pixels, gaps, overlaps and other anomalies generally associated with digital orthophoto products. Any discrepencies in the ortho tiles are resolved through the use of proprietary and industry editing tools. Once the images are copied to the deliverable media they are further checked for naming, image completeness, and ability to be loaded in ArcMap.</measDesc>
</report>
<report type="DQQuanAttAcc">
<measDesc>N/A</measDesc>
<evalMethDesc>Attribute accuracy does not apply to orthoimagery.</evalMethDesc>
<measResult>
<QuanResult>
<quanVal>N/A</quanVal>
</QuanResult>
</measResult>
</report>
<report dimension="horizontal" type="DQAbsExtPosAcc">
<measDesc>This orthoimagery meets ASPRS Class 1 Accuracy Standards for 1"=100' scale mapping</measDesc>
</report>
<report dimension="vertical" type="DQAbsExtPosAcc">
<measDesc>N/A</measDesc>
</report>
<dataLineage>
<dataSource>
<srcDesc>Geodetic ground control is used to create a digital control file and control report as well as QC check of ortho accuracy. Predefined points within the project area are targeted and photo-identifiable locations are measured. These points along with their precise coordinates are used in the AT process and to check the horizontal accuracy of the resulting orthophotos.</srcDesc>
<srcCitatn>
<resTitle>Ground Control</resTitle>
<resAltTitle>CONT</resAltTitle>
<date>
<pubDate>2020-07-15</pubDate>
</date>
<citRespParty>
<rpOrgName>Sanborn Map Co., Inc.</rpOrgName>
<role>
<RoleCd value="006"/>
</role>
</citRespParty>
<presForm>
<PresFormCd value="005"/>
</presForm>
<presForm>
<fgdcGeoform>vector digital data</fgdcGeoform>
</presForm>
</srcCitatn>
<srcExt>
<exDesc>ground condition</exDesc>
<tempEle>
<TempExtent>
<exTemp>
<TM_Instant>
<tmPosition>2020-07-15</tmPosition>
</TM_Instant>
</exTemp>
</TempExtent>
</tempEle>
</srcExt>
</dataSource>
<dataSource>
<srcDesc>Raw Aerial Imagery - UltraCam Eagle Digital Aerial Camera, Sanborn Map Company. Imagery and GPS/IMU data is downloaded from disc on the plane to disc on the ground. GPS/IMU mission data is processed together with simultaneously collected ground-based GPS base station data in forward and reverse directions. This precisely determines the aerial camera's position and orientation in the terrain (project) coordinate system and allows for correct orientation of the imagery.</srcDesc>
<srcCitatn>
<resTitle>Aerial Imagery</resTitle>
<resAltTitle>IMG</resAltTitle>
<date>
<pubDate>2020-03-16</pubDate>
</date>
<citRespParty>
<rpOrgName>Sanborn Map Co., Inc.</rpOrgName>
<role>
<RoleCd value="006"/>
</role>
</citRespParty>
<presForm>
<fgdcGeoform>Raster data</fgdcGeoform>
</presForm>
</srcCitatn>
<srcExt>
<exDesc>ground condition</exDesc>
<tempEle>
<TempExtent>
<exTemp>
<TM_Instant>
<tmPosition>2020-03-16</tmPosition>
</TM_Instant>
</exTemp>
</TempExtent>
</tempEle>
</srcExt>
</dataSource>
<dataSource>
<srcDesc>LiDAR data</srcDesc>
<srcCitatn>
<resTitle>LiDAR</resTitle>
<resAltTitle>DEM</resAltTitle>
<date>
<pubDate>2020-07-15</pubDate>
</date>
<citRespParty>
<rpOrgName>Sanborn Map Co., Inc.</rpOrgName>
<role>
<RoleCd value="006"/>
</role>
</citRespParty>
<presForm>
<fgdcGeoform>Vector data</fgdcGeoform>
</presForm>
</srcCitatn>
<srcExt>
<exDesc>ground condition</exDesc>
<tempEle>
<TempExtent>
<exTemp>
<TM_Instant>
<tmPosition>2020-07-15</tmPosition>
</TM_Instant>
</exTemp>
</TempExtent>
</tempEle>
</srcExt>
</dataSource>
<prcStep>
<stepDesc>Image acquisition by Sanborn Map Company on March 16, 2020 using an UltraCam Eagle Camera. Imagery and GPS/IMU data is downloaded from disc on the plane to disc on the ground. GPS/IMU mission data is processed together with simultaneously collected ground-based GPS base station data in forward and reverse directions. This precisely determines the aerial camera's position and orientation in the terrain (project) coordinate system and allows for correct orientation of the imagery.</stepDesc>
<stepDateTm>2020-03-16</stepDateTm>
<stepProc>
<rpIndName>Shawn Benham</rpIndName>
<rpOrgName>Sanborn Map Co., Inc.</rpOrgName>
<rpPosName>Vice President of Programs</rpPosName>
<rpCntInfo>
<cntPhone>
<voiceNum>719-502-1296</voiceNum>
</cntPhone>
<cntAddress addressType="postal">
<delPoint>1935 Jamboree Drive, Suite 100</delPoint>
<city>Colorado Springs</city>
<adminArea>CO</adminArea>
<postCode>80920</postCode>
<country>US</country>
<eMailAdd>sbenham@sanborn.com</eMailAdd>
</cntAddress>
</rpCntInfo>
<role>
<RoleCd value="009"/>
</role>
</stepProc>
</prcStep>
<prcStep>
<stepDesc>Using the processed GPS/IMU data and correctly oriented imagery, a bundle adjustment is computed (AT).</stepDesc>
<stepDateTm>2020-07-06</stepDateTm>
<stepProc>
<rpIndName>Shawn Benham</rpIndName>
<rpOrgName>Sanborn Map Co., Inc.</rpOrgName>
<rpPosName>Vice President of Programs</rpPosName>
<rpCntInfo>
<cntPhone>
<voiceNum>719-502-1296</voiceNum>
</cntPhone>
<cntAddress addressType="postal">
<delPoint>1935 Jamboree Drive, Suite 100</delPoint>
<city>Colorado Springs</city>
<adminArea>CO</adminArea>
<postCode>80920</postCode>
<country>US</country>
<eMailAdd>sbenham@sanborn.com</eMailAdd>
</cntAddress>
</rpCntInfo>
<role>
<RoleCd value="009"/>
</role>
</stepProc>
</prcStep>
<prcStep>
<stepDesc>Orthoimagery is rectified using the AT solution and LiDAR. Once completed, the orthoimagery is color balanced to the acceptable parameters established by the customer. Orthoimagery then undergoes manual quality control to check for issues as outlined in the Digital Orthoimagery Acceptance Criteria document. Issues such as warps, smears, misalignments, etc. are corrected using proprietary tools and Adobe PhotoShop. Upon completion of the QC process, the orthos are provided to the client for review in uncompressed TIFF/TFW.</stepDesc>
<stepDateTm>2020-07-06</stepDateTm>
<stepProc>
<rpIndName>Shawn Benham</rpIndName>
<rpOrgName>Sanborn Map Co., Inc.</rpOrgName>
<rpPosName>Vice President of Programs</rpPosName>
<rpCntInfo>
<cntPhone>
<voiceNum>719-502-1296</voiceNum>
</cntPhone>
<cntAddress addressType="postal">
<delPoint>1935 Jamboree Drive, Suite 100</delPoint>
<city>Colorado Springs</city>
<adminArea>CO</adminArea>
<postCode>80920</postCode>
<country>US</country>
<eMailAdd>sbenham@sanborn.com</eMailAdd>
</cntAddress>
</rpCntInfo>
<role>
<RoleCd value="009"/>
</role>
</stepProc>
</prcStep>
<prcStep>
<stepDesc>DEM Review/Updating. The LiDAR surface is reviewed and updated as needed to meet the final orthorectification standards set in this project.</stepDesc>
<stepDateTm>2020-07-15</stepDateTm>
<stepProc>
<rpIndName>Shawn Benham</rpIndName>
<rpOrgName>Sanborn Map Co., Inc.</rpOrgName>
<rpPosName>Vice President of Programs</rpPosName>
<rpCntInfo>
<cntPhone>
<voiceNum>719-502-1296</voiceNum>
</cntPhone>
<cntAddress addressType="postal">
<delPoint>1935 Jamboree Drive, Suite 100</delPoint>
<city>Colorado Springs</city>
<adminArea>CO</adminArea>
<postCode>80920</postCode>
<country>US</country>
<eMailAdd>sbenham@sanborn.com</eMailAdd>
</cntAddress>
</rpCntInfo>
<role>
<RoleCd value="009"/>
</role>
</stepProc>
</prcStep>
</dataLineage>
</dqInfo>
<spatRepInfo>
<VectSpatRep>
<geometObjs>
<geoObjTyp>
<GeoObjTypCd value="001"/>
</geoObjTyp>
<geoObjCnt>1</geoObjCnt>
</geometObjs>
</VectSpatRep>
<Georect>
<cellGeo>
<CellGeoCd Sync="TRUE" value="002"/>
</cellGeo>
<numDims Sync="TRUE">2</numDims>
<tranParaAv Sync="TRUE">1</tranParaAv>
<chkPtAv Sync="TRUE">0</chkPtAv>
<cornerPts>
<pos Sync="TRUE">1237000.000098 503000.000021</pos>
</cornerPts>
<cornerPts>
<pos Sync="TRUE">1237000.000098 549000.000021</pos>
</cornerPts>
<cornerPts>
<pos Sync="TRUE">1282000.000098 549000.000021</pos>
</cornerPts>
<cornerPts>
<pos Sync="TRUE">1282000.000098 503000.000021</pos>
</cornerPts>
<centerPt>
<pos Sync="TRUE">1259500.000098 526000.000021</pos>
</centerPt>
<axisDimension type="002">
<dimSize Sync="TRUE">180000</dimSize>
<dimResol>
