View In:
ArcGIS JavaScript
ArcGIS Online Map Viewer
ArcGIS Earth
Service Description: This metadata record describes the 0.25-foot pixel resolution digital orthoimagery produced of Rockville-Gaithersburg Maryland by the Sanborn Map Company. The orthoimagery provided is 4-band (R, G, B, NIR), 8-bit per pixel and delivered in section tiles in uncompressed TIFF/TFW, compressed SID/SDW (20:1), compressed JP2000 (20:1), and compressed ECW (25:1) formats in feet and meters. The data was collected in April, 2023 at an altitude 4733 feet (AGL) using an UltraCam Eagle camera and complies with the NSSDA standards, large scale maps at 1" = 100'. This orthoimagery is published in Maryland State Plane, NAD 1983 (2011), U.S. Survey Feet.
Name: Rockville_Ortho2023_3in
Description: This metadata record describes the 0.25-foot pixel resolution digital orthoimagery produced of Rockville-Gaithersburg Maryland by the Sanborn Map Company. The orthoimagery provided is 4-band (R, G, B, NIR), 8-bit per pixel and delivered in section tiles in uncompressed TIFF/TFW, compressed SID/SDW (20:1), compressed JP2000 (20:1), and compressed ECW (25:1) formats in feet and meters. The data was collected in April, 2023 at an altitude 4733 feet (AGL) using an UltraCam Eagle camera and complies with the NSSDA standards, large scale maps at 1" = 100'. This orthoimagery is published in Maryland State Plane, NAD 1983 (2011), U.S. Survey Feet.
Single Fused Map Cache: true
Tile Info:
- Height: 256
- Width: 256
- DPI: 96
-
Levels of Detail: 24
-
Level ID: 1
[ Start Tile, End Tile ]
- Resolution: 78271.5169639999
- Scale: 2.95828763795777E8
-
Level ID: 2
[ Start Tile, End Tile ]
- Resolution: 39135.7584820001
- Scale: 1.47914381897889E8
-
Level ID: 3
[ Start Tile, End Tile ]
- Resolution: 19567.8792409999
- Scale: 7.3957190948944E7
-
Level ID: 4
[ Start Tile, End Tile ]
- Resolution: 9783.93962049996
- Scale: 3.6978595474472E7
-
Level ID: 5
[ Start Tile, End Tile ]
- Resolution: 4891.96981024998
- Scale: 1.8489297737236E7
- Format: PNG8
- Compression Quality: 0.0
- LERC Error: NaN
- Origin: X: -2.0037508342787E7
Y: 2.0037508342787E7
- Spatial Reference: 102100
(3857)
LatestVCSWkid(0)
Storage Info:
- Storage Format: esriMapCacheStorageModeCompactV2
- Packet Size: 128
Extent:
XMin: -8594696.821239693
YMin: 4728881.471525135
XMax: -8583290.195437804
YMax: 4739296.628354477
Spatial Reference: 102100
(3857)
LatestVCSWkid(0)
Initial Extent:
XMin: -8594696.821239693
YMin: 4728881.471525135
XMax: -8583290.195437804
YMax: 4739296.628354477
Spatial Reference: 102100
(3857)
LatestVCSWkid(0)
Full Extent:
XMin: -8594696.821239693
YMin: 4728881.471525135
XMax: -8583290.195437804
YMax: 4739296.628354477
Spatial Reference: 102100
(3857)
LatestVCSWkid(0)
Pixel Size X: 0.07620015240030481
Pixel Size Y: 0.07620015240030481
Band Count: 3
Pixel Type: U8
RasterFunction Infos: {"rasterFunctionInfos": [{
"name": "None",
"description": "",
"help": ""
}]}
Mensuration Capabilities: Basic
Inspection Capabilities:
Has Histograms: true
Has Colormap: false
Has Multi Dimensions : false
Rendering Rule:
Min Scale: 577790.554289
Max Scale: 282.124294
Min LOD: 10
Max LOD: 21
Resampling: false
Copyright Text: Maryland Geographical Information Office Dept. of Information Technology
Service Data Type: esriImageServiceDataTypeRGB
Min Values: 0, 0, 0
Max Values: 255, 255, 255
Mean Values: 126.83346273948159, 121.53774251738812, 86.20362445861825
Standard Deviation Values: 48.5792794791668, 46.0139442028195, 48.54382754185813
Object ID Field:
Fields:
None
Default Mosaic Method: Center
Allowed Mosaic Methods:
SortField:
SortValue: null
Mosaic Operator: First
Default Compression Quality: 75
Default Resampling Method: Bilinear
Max Record Count: null
Max Image Height: 4100
Max Image Width: 15000
Max Download Image Count: null
Max Mosaic Image Count: null
Allow Raster Function: true
Allow Copy: false
Allow Analysis: false
Allow Compute TiePoints: false
Supports Statistics: false
Supports Advanced Queries: false
Use StandardizedQueries: true
Raster Type Infos:
Name: Raster Dataset
Description: Supports all ArcGIS Raster Datasets
Help:
Has Raster Attribute Table: false
Edit Fields Info: null
Ownership Based AccessControl For Rasters: null
Child Resources:
Info
Histograms
Statistics
Key Properties
Legend
Raster Function Infos
Supported Operations:
Export Image
Identify
Measure
Compute Histograms
Compute Statistics Histograms
Get Samples
Compute Class Statistics
Query Boundary
Compute Pixel Location
Compute Angles
Validate
Project